BEGIN:VCALENDAR
VERSION:2.0
PRODID:-//Springbrook &amp; Naperbrook Golf Courses - ECPv6.15.20//NONSGML v1.0//EN
CALSCALE:GREGORIAN
METHOD:PUBLISH
X-ORIGINAL-URL:http://golfnaperville.org
X-WR-CALDESC:Events for Springbrook &amp; Naperbrook Golf Courses
REFRESH-INTERVAL;VALUE=DURATION:PT1H
X-Robots-Tag:noindex
X-PUBLISHED-TTL:PT1H
BEGIN:VTIMEZONE
TZID:America/Toronto
BEGIN:DAYLIGHT
TZOFFSETFROM:-0500
TZOFFSETTO:-0400
TZNAME:EDT
DTSTART:20250309T070000
END:DAYLIGHT
BEGIN:STANDARD
TZOFFSETFROM:-0400
TZOFFSETTO:-0500
TZNAME:EST
DTSTART:20251102T060000
END:STANDARD
BEGIN:DAYLIGHT
TZOFFSETFROM:-0500
TZOFFSETTO:-0400
TZNAME:EDT
DTSTART:20260308T070000
END:DAYLIGHT
BEGIN:STANDARD
TZOFFSETFROM:-0400
TZOFFSETTO:-0500
TZNAME:EST
DTSTART:20261101T060000
END:STANDARD
BEGIN:DAYLIGHT
TZOFFSETFROM:-0500
TZOFFSETTO:-0400
TZNAME:EDT
DTSTART:20270314T070000
END:DAYLIGHT
BEGIN:STANDARD
TZOFFSETFROM:-0400
TZOFFSETTO:-0500
TZNAME:EST
DTSTART:20271107T060000
END:STANDARD
END:VTIMEZONE
BEGIN:VEVENT
DTSTART;TZID=America/Toronto:20260429T090000
DTEND;TZID=America/Toronto:20260429T110000
DTSTAMP:20260421T054901
CREATED:20260401T183511Z
LAST-MODIFIED:20260401T183511Z
UID:26713-1777453200-1777460400@golfnaperville.org
SUMMARY:Women’s Clinic
DESCRIPTION:Our PGA professionals offer instructional clinics catering to both beginning and intermediate women golfers that include instruction on full swing\, pitching\, chipping\, putting\, rules and etiquette. \n\nReceive a lesson guide and a four-token range punch card – a $60 value.\nThe first and second lessons are scheduled for two hours; the third and fourth lessons are scheduled for one hour.\nParticipants should provide their own clubs. A fairway wood\, the 5\, 7\, 9 irons and a putter are recommended.\nWe have a limited number of regulation golf clubs available at no charge that can be reserved on a first come\, first served basis by contacting the Golf Shop where the lesson is held.\nYou also are eligible for a discount on club purchases in our Golf Shops.\n\nThis clinic will be held from 9 to 11 a.m. on Monday\, April 20 and Wednesday\, April 22\, and from 9 to 10 a.m. on Monday\, April 27 and Wednesday\, April 29. \nRegister Online at https://anc.apm.activecommunities.com/napervilleparks/activity/search/detail/108457?onlineSiteId=0&from_original_cui=true. \nFor rainout information\, call the Naperbrook Golf Shop at 630-378-4215.
URL:http://golfnaperville.org/event/womens-clinic-4/
LOCATION:Naperbrook Golf Course\, 22204 W. 111th St./Hassert Blvd.\, Plainfield\, IL\, IL\, 60585\, United States
END:VEVENT
BEGIN:VEVENT
DTSTART;TZID=America/Toronto:20260429T140000
DTEND;TZID=America/Toronto:20260429T180000
DTSTAMP:20260421T054901
CREATED:20260331T164813Z
LAST-MODIFIED:20260331T164813Z
UID:26676-1777471200-1777485600@golfnaperville.org
SUMMARY:Callaway Demo Day
DESCRIPTION:CALLAWAY \nNaperbrook Golf Course\nWednesday\, April 29 \n2:00 pm – 6:00 pm 
URL:http://golfnaperville.org/event/callaway-demo-day-3/
LOCATION:Naperbrook Golf Course\, 22204 W. 111th St./Hassert Blvd.\, Plainfield\, IL\, IL\, 60585\, United States
END:VEVENT
END:VCALENDAR