BEGIN:VCALENDAR
VERSION:2.0
PRODID:-//Springbrook &amp; Naperbrook Golf Courses - ECPv6.15.20//NONSGML v1.0//EN
CALSCALE:GREGORIAN
METHOD:PUBLISH
X-WR-CALNAME:Springbrook &amp; Naperbrook Golf Courses
X-ORIGINAL-URL:http://golfnaperville.org
X-WR-CALDESC:Events for Springbrook &amp; Naperbrook Golf Courses
REFRESH-INTERVAL;VALUE=DURATION:PT1H
X-Robots-Tag:noindex
X-PUBLISHED-TTL:PT1H
BEGIN:VTIMEZONE
TZID:America/Toronto
BEGIN:DAYLIGHT
TZOFFSETFROM:-0500
TZOFFSETTO:-0400
TZNAME:EDT
DTSTART:20250309T070000
END:DAYLIGHT
BEGIN:STANDARD
TZOFFSETFROM:-0400
TZOFFSETTO:-0500
TZNAME:EST
DTSTART:20251102T060000
END:STANDARD
BEGIN:DAYLIGHT
TZOFFSETFROM:-0500
TZOFFSETTO:-0400
TZNAME:EDT
DTSTART:20260308T070000
END:DAYLIGHT
BEGIN:STANDARD
TZOFFSETFROM:-0400
TZOFFSETTO:-0500
TZNAME:EST
DTSTART:20261101T060000
END:STANDARD
BEGIN:DAYLIGHT
TZOFFSETFROM:-0500
TZOFFSETTO:-0400
TZNAME:EDT
DTSTART:20270314T070000
END:DAYLIGHT
BEGIN:STANDARD
TZOFFSETFROM:-0400
TZOFFSETTO:-0500
TZNAME:EST
DTSTART:20271107T060000
END:STANDARD
END:VTIMEZONE
BEGIN:VEVENT
DTSTART;TZID=America/Toronto:20260509T093000
DTEND;TZID=America/Toronto:20260509T110000
DTSTAMP:20260425T112756
CREATED:20260410T201425Z
LAST-MODIFIED:20260410T201906Z
UID:26902-1778319000-1778324400@golfnaperville.org
SUMMARY:Jr. Clinics: Ages 7-10
DESCRIPTION:The Junior Clinic experience is designed for young people with little to no experience. Learn the basic fundamentals of putting\, chipping\, full swing and etiquette and receive a four-token range punch card – a $40 value. \nThe clinic is intended for golfers aged 7 to 10 and is held at Naperbrook Golf Course from 9:30 to 11:00 a.m. on Saturday\, May 2\, Sunday\, May 3\, Saturday\, May 9 & Sunday\, May 10. \nPlease provide your own clubs. A fairway wood\, the 5\, 7\, 9 irons and a putter are recommended. We have a limited number of junior golf clubs available at no charge that can be reserved on a first come\, first served basis by contacting the Golf Shop where the lesson is held. If you have clubs\, please bring them. \nFor rainout information\, call the Naperbrook Golf Shop at 630-378-4215. \nRegister online at https://anc.apm.activecommunities.com/napervilleparks/activity/search/detail/108446?onlineSiteId=0&from_original_cui=true.
URL:http://golfnaperville.org/event/jr-clinics-ages-7-10-11/
LOCATION:IL
END:VEVENT
END:VCALENDAR