BEGIN:VCALENDAR
VERSION:2.0
PRODID:-//Springbrook &amp; Naperbrook Golf Courses - ECPv6.15.20//NONSGML v1.0//EN
CALSCALE:GREGORIAN
METHOD:PUBLISH
X-ORIGINAL-URL:http://golfnaperville.org
X-WR-CALDESC:Events for Springbrook &amp; Naperbrook Golf Courses
REFRESH-INTERVAL;VALUE=DURATION:PT1H
X-Robots-Tag:noindex
X-PUBLISHED-TTL:PT1H
BEGIN:VTIMEZONE
TZID:America/Toronto
BEGIN:DAYLIGHT
TZOFFSETFROM:-0500
TZOFFSETTO:-0400
TZNAME:EDT
DTSTART:20250309T070000
END:DAYLIGHT
BEGIN:STANDARD
TZOFFSETFROM:-0400
TZOFFSETTO:-0500
TZNAME:EST
DTSTART:20251102T060000
END:STANDARD
BEGIN:DAYLIGHT
TZOFFSETFROM:-0500
TZOFFSETTO:-0400
TZNAME:EDT
DTSTART:20260308T070000
END:DAYLIGHT
BEGIN:STANDARD
TZOFFSETFROM:-0400
TZOFFSETTO:-0500
TZNAME:EST
DTSTART:20261101T060000
END:STANDARD
BEGIN:DAYLIGHT
TZOFFSETFROM:-0500
TZOFFSETTO:-0400
TZNAME:EDT
DTSTART:20270314T070000
END:DAYLIGHT
BEGIN:STANDARD
TZOFFSETFROM:-0400
TZOFFSETTO:-0500
TZNAME:EST
DTSTART:20271107T060000
END:STANDARD
END:VTIMEZONE
BEGIN:VEVENT
DTSTART;TZID=America/Toronto:20260516T063000
DTEND;TZID=America/Toronto:20260517T170000
DTSTAMP:20260425T125717
CREATED:20260401T174131Z
LAST-MODIFIED:20260401T174131Z
UID:26695-1778913000-1779037200@golfnaperville.org
SUMMARY:Brooks Team Championship
DESCRIPTION:Looking for an out-of-the-ordinary tournament experience? Register with a partner for this year’s Brooks Team Championship. This is a 36-hole format with 18-holes played at each course\, and each of the 9-holes being played differently for an extra twist. Any amateur golfer 18 years of age or older with an official USGA handicap is eligible. Fee includes greens fees\, range balls\, prizes and lunch. Approximately 20% of the field will receive merchandise credit. \nDiscover more about this tournament at https://golfnaperville.org/tournament-schedule/brooks-team-championship/. \nRegister online at https://www.livetourney.com/event/4907.
URL:http://golfnaperville.org/event/brooks-team-championship-2/
LOCATION:Springbrook & Naperbrook\, 2220 W. 83rd St\, Naperville\, IL\, 60564\, United States
END:VEVENT
BEGIN:VEVENT
DTSTART;TZID=America/Toronto:20260516T173000
DTEND;TZID=America/Toronto:20260516T200000
DTSTAMP:20260425T125717
CREATED:20260410T203445Z
LAST-MODIFIED:20260410T203445Z
UID:26916-1778952600-1778961600@golfnaperville.org
SUMMARY:Parent/Jr. Clinics
DESCRIPTION:Parents and children\, begin a lifetime of golfing memories! \nThese family-oriented clinics instruct on the full swing\, pitching\, chipping and putting. Each lesson includes an hour of instruction and ninety minutes of golf course play. \nThe clinics will be held at Naperbrook Golf Course from 5:30 p.m. to 8:00 p.m. on Saturday\, May 16\, Sunday\, May 17\, Saturday\, May 23\, and Sunday\, May 24. \nThere will be limited on-course supervision and instruction. Instructor will assign the groups to begin play and then step back to allow the interaction between parent and child to occur without interruption. \nEach participant receives a four-token range punch card – a $40 value. \nPlease provide your own clubs. A fairway wood\, the 5\, 7\, 9 irons and a putter are recommended. \nFor rainout information call the Naperbrook Golf Shop at 630-378-4215. \nRegister online at https://anc.apm.activecommunities.com/napervilleparks/activity/search/detail/108455?onlineSiteId=0&from_original_cui=true.
URL:http://golfnaperville.org/event/parent-jr-clinics/
LOCATION:Naperbrook Golf Course\, 22204 W. 111th St./Hassert Blvd.\, Plainfield\, IL\, IL\, 60585\, United States
END:VEVENT
END:VCALENDAR