BEGIN:VCALENDAR
VERSION:2.0
PRODID:-//Springbrook &amp; Naperbrook Golf Courses - ECPv6.15.20//NONSGML v1.0//EN
CALSCALE:GREGORIAN
METHOD:PUBLISH
X-WR-CALNAME:Springbrook &amp; Naperbrook Golf Courses
X-ORIGINAL-URL:http://golfnaperville.org
X-WR-CALDESC:Events for Springbrook &amp; Naperbrook Golf Courses
REFRESH-INTERVAL;VALUE=DURATION:PT1H
X-Robots-Tag:noindex
X-PUBLISHED-TTL:PT1H
BEGIN:VTIMEZONE
TZID:America/Toronto
BEGIN:DAYLIGHT
TZOFFSETFROM:-0500
TZOFFSETTO:-0400
TZNAME:EDT
DTSTART:20250309T070000
END:DAYLIGHT
BEGIN:STANDARD
TZOFFSETFROM:-0400
TZOFFSETTO:-0500
TZNAME:EST
DTSTART:20251102T060000
END:STANDARD
BEGIN:DAYLIGHT
TZOFFSETFROM:-0500
TZOFFSETTO:-0400
TZNAME:EDT
DTSTART:20260308T070000
END:DAYLIGHT
BEGIN:STANDARD
TZOFFSETFROM:-0400
TZOFFSETTO:-0500
TZNAME:EST
DTSTART:20261101T060000
END:STANDARD
BEGIN:DAYLIGHT
TZOFFSETFROM:-0500
TZOFFSETTO:-0400
TZNAME:EDT
DTSTART:20270314T070000
END:DAYLIGHT
BEGIN:STANDARD
TZOFFSETFROM:-0400
TZOFFSETTO:-0500
TZNAME:EST
DTSTART:20271107T060000
END:STANDARD
END:VTIMEZONE
BEGIN:VEVENT
DTSTART;TZID=America/Toronto:20260520T140000
DTEND;TZID=America/Toronto:20260520T180000
DTSTAMP:20260425T124745
CREATED:20260331T172255Z
LAST-MODIFIED:20260331T172255Z
UID:26687-1779285600-1779300000@golfnaperville.org
SUMMARY:PING Demo Day
DESCRIPTION:PING \nNaperbrook Golf Course\nWednesday\, May 20 \n2:00 pm – 6:00 pm 
URL:http://golfnaperville.org/event/ping-demo-day-6/
LOCATION:Naperbrook Golf Course\, 22204 W. 111th St./Hassert Blvd.\, Plainfield\, IL\, IL\, 60585\, United States
END:VEVENT
BEGIN:VEVENT
DTSTART;TZID=America/Toronto:20260520T180000
DTEND;TZID=America/Toronto:20260520T200000
DTSTAMP:20260425T124745
CREATED:20260401T181538Z
LAST-MODIFIED:20260401T181538Z
UID:26708-1779300000-1779307200@golfnaperville.org
SUMMARY:Intermediate Women’s Clinic
DESCRIPTION:Our PGA professionals offer instructional clinics (four hours range time/four hours course time) designed for women golfers with minimal previous on-course experience. Learn how to play the game in a fun\, relaxed environment. Instruction on full swing\, pitching\, chipping\, putting\, rules and etiquette and basic golf course management playing skills is provided. \nTo make this program enjoyable for all participants\, golfers should have had some previous instruction. \n\nReceive a lesson guide and a four-token range punch card – a $60 value.\nParticipants should provide their own clubs. A fairway wood\, the 5\, 7\, 9 irons and a putter are recommended.\nWe have a limited number of regulation golf clubs available at no charge that can be reserved on a first come\, first served basis by contacting the Golf Shop where the lesson is held.\nYou also are eligible for a discount on club purchases in our Golf Shops.\n\nThis clinic will be held from 5:30 to 7:30 p.m. on Monday\, May 11\, Wednesday\, May 13\, Monday\, May 18\, and Wednesday\, May 20. \nRegister Online at https://anc.apm.activecommunities.com/napervilleparks/activity/search/detail/108443?onlineSiteId=0&from_original_cui=true. \nFor rainout information\, call the Naperbrook Golf Shop at 630-378-4215.
URL:http://golfnaperville.org/event/intermediate-womens-clinic-8/
LOCATION:Naperbrook Golf Course\, 22204 W. 111th St./Hassert Blvd.\, Plainfield\, IL\, IL\, 60585\, United States
END:VEVENT
END:VCALENDAR