BEGIN:VCALENDAR
VERSION:2.0
PRODID:-//Springbrook &amp; Naperbrook Golf Courses - ECPv6.15.20//NONSGML v1.0//EN
CALSCALE:GREGORIAN
METHOD:PUBLISH
X-ORIGINAL-URL:http://golfnaperville.org
X-WR-CALDESC:Events for Springbrook &amp; Naperbrook Golf Courses
REFRESH-INTERVAL;VALUE=DURATION:PT1H
X-Robots-Tag:noindex
X-PUBLISHED-TTL:PT1H
BEGIN:VTIMEZONE
TZID:America/Toronto
BEGIN:DAYLIGHT
TZOFFSETFROM:-0500
TZOFFSETTO:-0400
TZNAME:EDT
DTSTART:20250309T070000
END:DAYLIGHT
BEGIN:STANDARD
TZOFFSETFROM:-0400
TZOFFSETTO:-0500
TZNAME:EST
DTSTART:20251102T060000
END:STANDARD
BEGIN:DAYLIGHT
TZOFFSETFROM:-0500
TZOFFSETTO:-0400
TZNAME:EDT
DTSTART:20260308T070000
END:DAYLIGHT
BEGIN:STANDARD
TZOFFSETFROM:-0400
TZOFFSETTO:-0500
TZNAME:EST
DTSTART:20261101T060000
END:STANDARD
BEGIN:DAYLIGHT
TZOFFSETFROM:-0500
TZOFFSETTO:-0400
TZNAME:EDT
DTSTART:20270314T070000
END:DAYLIGHT
BEGIN:STANDARD
TZOFFSETFROM:-0400
TZOFFSETTO:-0500
TZNAME:EST
DTSTART:20271107T060000
END:STANDARD
END:VTIMEZONE
BEGIN:VEVENT
DTSTART;TZID=America/Toronto:20260609T180000
DTEND;TZID=America/Toronto:20260609T200000
DTSTAMP:20260425T161915
CREATED:20260406T182314Z
LAST-MODIFIED:20260406T182314Z
UID:26754-1781028000-1781035200@golfnaperville.org
SUMMARY:Golf Lessons: Adult Beginner
DESCRIPTION:Our PGA professionals offer instructional clinics catering to beginning golfers that include instruction on full swing\, pitching\, chipping\, putting\, rules and etiquette. \n\nReceive a lesson guide and a four-token range punch card – a $60 value.\nThe first and second lessons are scheduled for two hours; the third and fourth lessons are scheduled for one hour.\nParticipants should provide their own clubs. A fairway wood\, the 5\, 7\, 9 irons and a putter are recommended.\nWe have a limited number of regulation golf clubs available at no charge that can be reserved on a first come\, first served basis by contacting the Golf Shop where the lesson is held.\nYou also are eligible for a discount on club purchases in our Golf Shops.\n\nThis clinic will be held from 6:00 to 8:00 p.m. on Tuesday\, June 9\, and Thursday\, June 11\, and from 6:00 to 7:00 p.m. on Tuesday\, June 16\, and Thursday\, June 18. \nRegister Online at https://anc.apm.activecommunities.com/napervilleparks/activity/search/detail/108438?onlineSiteId=0&from_original_cui=true. \nFor rainout information\, call the Naperbrook Golf Shop at 630-378-4215.
URL:http://golfnaperville.org/event/golf-lessons-adult-beginner-9/
LOCATION:Naperbrook Golf Course\, 22204 W. 111th St./Hassert Blvd.\, Plainfield\, IL\, IL\, 60585\, United States
END:VEVENT
END:VCALENDAR