BEGIN:VCALENDAR
VERSION:2.0
PRODID:-//Springbrook &amp; Naperbrook Golf Courses - ECPv6.15.20//NONSGML v1.0//EN
CALSCALE:GREGORIAN
METHOD:PUBLISH
X-ORIGINAL-URL:http://golfnaperville.org
X-WR-CALDESC:Events for Springbrook &amp; Naperbrook Golf Courses
REFRESH-INTERVAL;VALUE=DURATION:PT1H
X-Robots-Tag:noindex
X-PUBLISHED-TTL:PT1H
BEGIN:VTIMEZONE
TZID:America/Toronto
BEGIN:DAYLIGHT
TZOFFSETFROM:-0500
TZOFFSETTO:-0400
TZNAME:EDT
DTSTART:20250309T070000
END:DAYLIGHT
BEGIN:STANDARD
TZOFFSETFROM:-0400
TZOFFSETTO:-0500
TZNAME:EST
DTSTART:20251102T060000
END:STANDARD
BEGIN:DAYLIGHT
TZOFFSETFROM:-0500
TZOFFSETTO:-0400
TZNAME:EDT
DTSTART:20260308T070000
END:DAYLIGHT
BEGIN:STANDARD
TZOFFSETFROM:-0400
TZOFFSETTO:-0500
TZNAME:EST
DTSTART:20261101T060000
END:STANDARD
BEGIN:DAYLIGHT
TZOFFSETFROM:-0500
TZOFFSETTO:-0400
TZNAME:EDT
DTSTART:20270314T070000
END:DAYLIGHT
BEGIN:STANDARD
TZOFFSETFROM:-0400
TZOFFSETTO:-0500
TZNAME:EST
DTSTART:20271107T060000
END:STANDARD
END:VTIMEZONE
BEGIN:VEVENT
DTSTART;TZID=America/Toronto:20260614T090000
DTEND;TZID=America/Toronto:20260614T110000
DTSTAMP:20260425T162006
CREATED:20260407T143945Z
LAST-MODIFIED:20260407T143945Z
UID:26776-1781427600-1781434800@golfnaperville.org
SUMMARY:Golf Lessons: Adult Beginner
DESCRIPTION:Our PGA professionals offer instructional clinics catering to beginning golfers that include instruction on full swing\, pitching\, chipping\, putting\, rules and etiquette. \n\nReceive a lesson guide and a four-token range punch card – a $60 value.\nThe first and second lessons are scheduled for two hours; the third and fourth lessons are scheduled for one hour.\nParticipants should provide their own clubs. A driver or fairway wood\, the 7\, 9\, PW or SW irons\, and a putter are recommended.\nIf you do not have clubs\, we have golf clubs available for use at no charge.\nYou also are eligible for a discount on club purchases in our Golf Shops.\n\nThis clinic will be held from 9:00 to 11:00 a.m. on Saturday\, June 13\, and Sunday\, June 14\, and from 9:00 to 10:00 a.m. on Saturday\, June 20\, and Sunday\, June 21. \nRegister Online at https://anc.apm.activecommunities.com/napervilleparks/activity/search/detail/108384?onlineSiteId=0&from_original_cui=true. \nFor rainout information\, call the Springbrook Golf Shop at 630-848-5060.
URL:http://golfnaperville.org/event/golf-lessons-adult-beginner-29/
LOCATION:Springbrook Golf Course\, 2220 W. 83rd St\, Naperville\, IL\, 60564\, United States
END:VEVENT
BEGIN:VEVENT
DTSTART;TZID=America/Toronto:20260614T093000
DTEND;TZID=America/Toronto:20260614T110000
DTSTAMP:20260425T162006
CREATED:20260410T202425Z
LAST-MODIFIED:20260410T202425Z
UID:26907-1781429400-1781434800@golfnaperville.org
SUMMARY:Jr. Clinics: Ages 7-10
DESCRIPTION:The Junior Clinic experience is designed for young people with little to no experience. Learn the basic fundamentals of putting\, chipping\, full swing and etiquette and receive a four-token range punch card – a $40 value. \nThe clinic is intended for golfers aged 7 to 10 and is held at Naperbrook Golf Course from 9:30 to 11:00 a.m. on Saturday\, June 6\, Sunday\, June 7\, Saturday\, June 13 & Sunday\, June 14. \nPlease provide your own clubs. A fairway wood\, the 5\, 7\, 9 irons and a putter are recommended. We have a limited number of junior golf clubs available at no charge that can be reserved on a first come\, first served basis by contacting the Golf Shop where the lesson is held. If you have clubs\, please bring them. \nFor rainout information\, call the Naperbrook Golf Shop at 630-378-4215. \nRegister online at https://anc.apm.activecommunities.com/napervilleparks/activity/search/detail/108447?onlineSiteId=0&from_original_cui=true.
URL:http://golfnaperville.org/event/jr-clinics-ages-7-10-16/
LOCATION:Naperbrook Golf Course\, 22204 W. 111th St./Hassert Blvd.\, Plainfield\, IL\, IL\, 60585\, United States
END:VEVENT
BEGIN:VEVENT
DTSTART;TZID=America/Toronto:20260614T120000
DTEND;TZID=America/Toronto:20260614T133000
DTSTAMP:20260425T162006
CREATED:20260410T203058Z
LAST-MODIFIED:20260410T203058Z
UID:26913-1781438400-1781443800@golfnaperville.org
SUMMARY:Jr. Clinics: Ages 7-10
DESCRIPTION:The Junior Clinic experience is designed for young people with little or no golf background. Learn the basic fundamentals of putting\, chipping\, full swing and etiquette and receive a four-token range punch card – a $40 value. \nThe clinic is intended for golfers aged 7 to 10 and is held at Springbrook Golf Course from Noon to 1:30 p.m. on Saturday\, June 13\, Sunday\, June 14\, Saturday\, June 20\, and Sunday\, June 21. \nParticipants should provide their own clubs. A driver or fairway wood\, the 7\, 9\, Pw or Sw irons and a putter are recommended. If you do not have clubs\, we have clubs available at no charge. Participants also are eligible for a discount on club purchases in our Golf Shops. \nFor rainout information\, call the Springbrook Golf Shop at 630-848-5060 or the Naperbrook Golf Shop at 630-378-4215. \nRegister online at https://anc.apm.activecommunities.com/napervilleparks/activity/search/detail/108413?onlineSiteId=0&from_original_cui=true.
URL:http://golfnaperville.org/event/jr-clinics-ages-7-10-22/
LOCATION:Springbrook Golf Course\, 2220 W. 83rd St\, Naperville\, IL\, 60564\, United States
END:VEVENT
BEGIN:VEVENT
DTSTART;TZID=America/Toronto:20260614T143000
DTEND;TZID=America/Toronto:20260614T160000
DTSTAMP:20260425T162006
CREATED:20260409T205710Z
LAST-MODIFIED:20260409T205710Z
UID:26882-1781447400-1781452800@golfnaperville.org
SUMMARY:Jr. Clinics: Ages 11-15
DESCRIPTION:The Junior Clinic experience is designed for young people with little or no golf background. Learn the basic fundamentals of putting\, chipping\, full swing and etiquette and receive a four-token range punch card – a $40 value. \nThe clinic is intended for golfers aged 11 to 15 and is held at Springbrook Golf Course from 2:30 to 4:00 p.m. on Saturday\, June 13\, Sunday\, June 14\, Saturday\, June 20 and Sunday\, June 21. \nParticipants should provide their own clubs. A driver or fairway wood\, the 7\, 9\, Pw or Sw irons and a putter are recommended. We have a limited number of junior golf clubs available at no charge that can be reserved on a first come\, first served basis by contacting the Golf Shop where the lesson is held. You also are eligible for a discount on club purchases in our Golf Shops. \nFor rainout information\, call the Springbrook Golf Shop at 630-848-5060 or the Naperbrook Golf Shop at 630-378-4215. \nRegister online at https://anc.apm.activecommunities.com/napervilleparks/activity/search/detail/108402?onlineSiteId=0&from_original_cui=true.
URL:http://golfnaperville.org/event/jr-clinics-ages-11-15-6/
LOCATION:Springbrook Golf Course\, 2220 W. 83rd St\, Naperville\, IL\, 60564\, United States
END:VEVENT
END:VCALENDAR