BEGIN:VCALENDAR
VERSION:2.0
PRODID:-//Springbrook &amp; Naperbrook Golf Courses - ECPv6.15.20//NONSGML v1.0//EN
CALSCALE:GREGORIAN
METHOD:PUBLISH
X-WR-CALNAME:Springbrook &amp; Naperbrook Golf Courses
X-ORIGINAL-URL:http://golfnaperville.org
X-WR-CALDESC:Events for Springbrook &amp; Naperbrook Golf Courses
REFRESH-INTERVAL;VALUE=DURATION:PT1H
X-Robots-Tag:noindex
X-PUBLISHED-TTL:PT1H
BEGIN:VTIMEZONE
TZID:America/Toronto
BEGIN:DAYLIGHT
TZOFFSETFROM:-0500
TZOFFSETTO:-0400
TZNAME:EDT
DTSTART:20250309T070000
END:DAYLIGHT
BEGIN:STANDARD
TZOFFSETFROM:-0400
TZOFFSETTO:-0500
TZNAME:EST
DTSTART:20251102T060000
END:STANDARD
BEGIN:DAYLIGHT
TZOFFSETFROM:-0500
TZOFFSETTO:-0400
TZNAME:EDT
DTSTART:20260308T070000
END:DAYLIGHT
BEGIN:STANDARD
TZOFFSETFROM:-0400
TZOFFSETTO:-0500
TZNAME:EST
DTSTART:20261101T060000
END:STANDARD
BEGIN:DAYLIGHT
TZOFFSETFROM:-0500
TZOFFSETTO:-0400
TZNAME:EDT
DTSTART:20270314T070000
END:DAYLIGHT
BEGIN:STANDARD
TZOFFSETFROM:-0400
TZOFFSETTO:-0500
TZNAME:EST
DTSTART:20271107T060000
END:STANDARD
END:VTIMEZONE
BEGIN:VEVENT
DTSTART;TZID=America/Toronto:20260622T110000
DTEND;TZID=America/Toronto:20260622T140000
DTSTAMP:20260425T193146
CREATED:20260409T122247Z
LAST-MODIFIED:20260409T122616Z
UID:26850-1782126000-1782136800@golfnaperville.org
SUMMARY:Jr. Developmental League
DESCRIPTION:The Junior Developmental League is designed for young people with some golf experience who are ready to start playing on the course. This is a great\, relaxed setting for junior golfers to learn the game and have fun with other junior players. \nEach class is three hours with the first hour being instruction and the next two hours being course time. The League is played from 11:00 a.m. to 2:00 p.m. on Mondays from June 15 to August 3 at Naperbrook Golf Course. Please note: there is no class on July 6.  \nThe goal is to take what was learned on the range and apply it to the golf course. \nEach group is accompanied by an instructor who aids the junior golfers around the golf course and helps them with etiquette\, pace of play and course management. \nReceive a four-token range punch card – a $40 value\, a junior golfer tee gift\, and lunch before playing each week. \nPlease provide your own clubs. A fairway wood\, the 5\, 7\, 9 irons and a putter are recommended. \nFor rainout information\, call the Naperbrook Golf Shop at 630-378-4215. \nRegister online at https://anc.apm.activecommunities.com/napervilleparks/activity/search/detail/108451?onlineSiteId=0&from_original_cui=true.
URL:http://golfnaperville.org/event/jr-developmental-league-2/
LOCATION:Naperbrook Golf Course\, 22204 W. 111th St./Hassert Blvd.\, Plainfield\, IL\, IL\, 60585\, United States
END:VEVENT
END:VCALENDAR