BEGIN:VCALENDAR
VERSION:2.0
PRODID:-//Springbrook &amp; Naperbrook Golf Courses - ECPv6.15.20//NONSGML v1.0//EN
CALSCALE:GREGORIAN
METHOD:PUBLISH
X-WR-CALNAME:Springbrook &amp; Naperbrook Golf Courses
X-ORIGINAL-URL:http://golfnaperville.org
X-WR-CALDESC:Events for Springbrook &amp; Naperbrook Golf Courses
REFRESH-INTERVAL;VALUE=DURATION:PT1H
X-Robots-Tag:noindex
X-PUBLISHED-TTL:PT1H
BEGIN:VTIMEZONE
TZID:America/Toronto
BEGIN:DAYLIGHT
TZOFFSETFROM:-0500
TZOFFSETTO:-0400
TZNAME:EDT
DTSTART:20250309T070000
END:DAYLIGHT
BEGIN:STANDARD
TZOFFSETFROM:-0400
TZOFFSETTO:-0500
TZNAME:EST
DTSTART:20251102T060000
END:STANDARD
BEGIN:DAYLIGHT
TZOFFSETFROM:-0500
TZOFFSETTO:-0400
TZNAME:EDT
DTSTART:20260308T070000
END:DAYLIGHT
BEGIN:STANDARD
TZOFFSETFROM:-0400
TZOFFSETTO:-0500
TZNAME:EST
DTSTART:20261101T060000
END:STANDARD
BEGIN:DAYLIGHT
TZOFFSETFROM:-0500
TZOFFSETTO:-0400
TZNAME:EDT
DTSTART:20270314T070000
END:DAYLIGHT
BEGIN:STANDARD
TZOFFSETFROM:-0400
TZOFFSETTO:-0500
TZNAME:EST
DTSTART:20271107T060000
END:STANDARD
END:VTIMEZONE
BEGIN:VEVENT
DTSTART;VALUE=DATE:20260706
DTEND;VALUE=DATE:20260707
DTSTAMP:20260426T003427
CREATED:20260401T175333Z
LAST-MODIFIED:20260401T175333Z
UID:26697-1783296000-1783382399@golfnaperville.org
SUMMARY:Naperville Junior Amateur Championship at Naperbrook
DESCRIPTION:Date:\nJuly 6\, 2026\n\n\nCourse:\nNaperbrook Golf Course\n\n\nStart Time:\n• 6-hole players will begin at 8:00am off of the 4th tee.\n• 9-hole players will begin at 8:00am off of the 10th tee\n• 18-hole players will begin at 10:00am off of the 1st tee.\n\n\nCost:\n• $40.00 per player for flights A\, B\, C\, and D.\n• $35.00 per player for flights E and F.\n• $20.00 per player for flights G and H.\n\n\n\nYoung golfers can enjoy gaining some tournament experience by signing up for this year’s Junior Amateur Championship! Entries will be divided into flights based on age and gender. The top five finishers from each flight receive awards. Any amateur golfer 9-17 years of age is eligible. Entry fee includes green fee\, range balls\, tee prizes\, and lunch. \nDiscover more about this tournament at https://golfnaperville.org/tournament-schedule/naperville-junior-amateur-championship-at-naperbrook/.
URL:http://golfnaperville.org/event/naperville-junior-amateur-championship-at-naperbrook-2/
LOCATION:Naperbrook Golf Course\, 22204 W. 111th St./Hassert Blvd.\, Plainfield\, IL\, IL\, 60585\, United States
END:VEVENT
END:VCALENDAR