BEGIN:VCALENDAR
VERSION:2.0
PRODID:-//Springbrook &amp; Naperbrook Golf Courses - ECPv6.15.20//NONSGML v1.0//EN
CALSCALE:GREGORIAN
METHOD:PUBLISH
X-WR-CALNAME:Springbrook &amp; Naperbrook Golf Courses
X-ORIGINAL-URL:http://golfnaperville.org
X-WR-CALDESC:Events for Springbrook &amp; Naperbrook Golf Courses
REFRESH-INTERVAL;VALUE=DURATION:PT1H
X-Robots-Tag:noindex
X-PUBLISHED-TTL:PT1H
BEGIN:VTIMEZONE
TZID:America/Toronto
BEGIN:DAYLIGHT
TZOFFSETFROM:-0500
TZOFFSETTO:-0400
TZNAME:EDT
DTSTART:20250309T070000
END:DAYLIGHT
BEGIN:STANDARD
TZOFFSETFROM:-0400
TZOFFSETTO:-0500
TZNAME:EST
DTSTART:20251102T060000
END:STANDARD
BEGIN:DAYLIGHT
TZOFFSETFROM:-0500
TZOFFSETTO:-0400
TZNAME:EDT
DTSTART:20260308T070000
END:DAYLIGHT
BEGIN:STANDARD
TZOFFSETFROM:-0400
TZOFFSETTO:-0500
TZNAME:EST
DTSTART:20261101T060000
END:STANDARD
BEGIN:DAYLIGHT
TZOFFSETFROM:-0500
TZOFFSETTO:-0400
TZNAME:EDT
DTSTART:20270314T070000
END:DAYLIGHT
BEGIN:STANDARD
TZOFFSETFROM:-0400
TZOFFSETTO:-0500
TZNAME:EST
DTSTART:20271107T060000
END:STANDARD
END:VTIMEZONE
BEGIN:VEVENT
DTSTART;TZID=America/Toronto:20260819T070000
DTEND;TZID=America/Toronto:20260820T170000
DTSTAMP:20260426T003447
CREATED:20260401T175953Z
LAST-MODIFIED:20260401T175953Z
UID:26700-1787122800-1787245200@golfnaperville.org
SUMMARY:Glen Ekey Naperville Senior Amateur Championship
DESCRIPTION:Date: August 19 & 20\, 2026\nCourse: Springbrook Golf Course & Naperbrook Golf Course\nStart Time: 7:00 a.m.\nCost: $120 per player \nBrooks Links Members must register in-person or over the phone to receive discount. \n\n\nRegister Now! \n\n\nThe Glen Ekey Senior Amateur Championship is a 36-hole stroke play event. Flights are determined by age (Seniors 55-69\, Legends 70+). Each flight will declare a low gross and low net champion. The overall low gross score of the Senior flight will be declared the Glen Ekey Senior Amateur Champion. Any amateur golfer 55 years of age or older with an official USGA handicap is eligible. The entry fee is $120 per person\, which includes green fees\, range balls\, prizes and lunch each day. Riding carts will be optional\, and are not included in the entry fee. Trophies will be awarded to the winners. \nDiscover more about this event at https://golfnaperville.org/tournament-schedule/glen-ekey-naperville-senior-amateur-championship-at-springbrook-naperbrook/.
URL:http://golfnaperville.org/event/glen-ekey-naperville-senior-amateur-championship/
LOCATION:Springbrook & Naperbrook\, 2220 W. 83rd St\, Naperville\, IL\, 60564\, United States
END:VEVENT
BEGIN:VEVENT
DTSTART;TZID=America/Toronto:20260820T090000
DTEND;TZID=America/Toronto:20260820T110000
DTSTAMP:20260426T003447
CREATED:20260407T213253Z
LAST-MODIFIED:20260407T213253Z
UID:26814-1787216400-1787223600@golfnaperville.org
SUMMARY:Women’s Clinic
DESCRIPTION:Our PGA professionals offer instructional clinics catering to both beginning and intermediate women golfers that include instruction on full swing\, pitching\, chipping\, putting\, rules and etiquette. \n\nReceive a lesson guide and a four-token range punch card – a $60 value.\nThe first and second lessons are scheduled for two hours; the third and fourth lessons are scheduled for one hour.\nParticipants should provide their own clubs. A driver or fairway wood\, the 7\, 9\, PW or SW irons and a putter are recommended.\nIf you do not have clubs\, we have golf clubs available at no charge.\nParticipants also are eligible for a discount on club purchases in our Golf Shops.\n\nThis clinic will be held from 9:00 to 11:00 a.m. on Tuesday\, August 18\, and Thursday\, August 20\, and from 9:00 to 10:00 a.m. on Tuesday\, August 25 and Thursday\, August 27. \nRegister Online at https://anc.apm.activecommunities.com/napervilleparks/activity/search/detail/108433?onlineSiteId=0&from_original_cui=true. \nFor rainout information\, call the Springbrook Golf Shop at 630-848-5060.
URL:http://golfnaperville.org/event/womens-clinic-26/
LOCATION:Springbrook Golf Course\, 2220 W. 83rd St\, Naperville\, IL\, 60564\, United States
END:VEVENT
END:VCALENDAR