BEGIN:VCALENDAR
VERSION:2.0
PRODID:-//Springbrook &amp; Naperbrook Golf Courses - ECPv6.15.20//NONSGML v1.0//EN
CALSCALE:GREGORIAN
METHOD:PUBLISH
X-ORIGINAL-URL:https://golfnaperville.org
X-WR-CALDESC:Events for Springbrook &amp; Naperbrook Golf Courses
REFRESH-INTERVAL;VALUE=DURATION:PT1H
X-Robots-Tag:noindex
X-PUBLISHED-TTL:PT1H
BEGIN:VTIMEZONE
TZID:America/Toronto
BEGIN:DAYLIGHT
TZOFFSETFROM:-0500
TZOFFSETTO:-0400
TZNAME:EDT
DTSTART:20240310T070000
END:DAYLIGHT
BEGIN:STANDARD
TZOFFSETFROM:-0400
TZOFFSETTO:-0500
TZNAME:EST
DTSTART:20241103T060000
END:STANDARD
BEGIN:DAYLIGHT
TZOFFSETFROM:-0500
TZOFFSETTO:-0400
TZNAME:EDT
DTSTART:20250309T070000
END:DAYLIGHT
BEGIN:STANDARD
TZOFFSETFROM:-0400
TZOFFSETTO:-0500
TZNAME:EST
DTSTART:20251102T060000
END:STANDARD
BEGIN:DAYLIGHT
TZOFFSETFROM:-0500
TZOFFSETTO:-0400
TZNAME:EDT
DTSTART:20260308T070000
END:DAYLIGHT
BEGIN:STANDARD
TZOFFSETFROM:-0400
TZOFFSETTO:-0500
TZNAME:EST
DTSTART:20261101T060000
END:STANDARD
END:VTIMEZONE
BEGIN:VEVENT
DTSTART;TZID=America/Toronto:20250425T140000
DTEND;TZID=America/Toronto:20250425T180000
DTSTAMP:20260425T062704
CREATED:20250127T170545Z
LAST-MODIFIED:20250127T170545Z
UID:25888-1745589600-1745604000@golfnaperville.org
SUMMARY:TourEdge Fitting Day
DESCRIPTION:TourEdge \nSpringbrook Golf Course\nFriday\, April 25\n2:00 pm – 6:00 pm
URL:https://golfnaperville.org/event/touredge-fitting-day-2/
LOCATION:Springbrook Golf Course\, 2220 W. 83rd St\, Naperville\, IL\, 60564\, United States
END:VEVENT
BEGIN:VEVENT
DTSTART;TZID=America/Toronto:20250425T140000
DTEND;TZID=America/Toronto:20250425T180000
DTSTAMP:20260425T062704
CREATED:20250325T212940Z
LAST-MODIFIED:20250325T212940Z
UID:26107-1745589600-1745604000@golfnaperville.org
SUMMARY:PING Fitting Day
DESCRIPTION:PING \nNaperbrook Golf Course\nFriday\, April 25\n2:00 pm – 6:00 pm \nClick here to book your appointment
URL:https://golfnaperville.org/event/ping-fitting-day-2/
LOCATION:Naperbrook Golf Course\, 22204 W. 111th St./Hassert Blvd.\, Plainfield\, IL\, IL\, 60585\, United States
END:VEVENT
END:VCALENDAR