BEGIN:VCALENDAR
VERSION:2.0
PRODID:-//Springbrook &amp; Naperbrook Golf Courses - ECPv6.15.20//NONSGML v1.0//EN
CALSCALE:GREGORIAN
METHOD:PUBLISH
X-ORIGINAL-URL:https://golfnaperville.org
X-WR-CALDESC:Events for Springbrook &amp; Naperbrook Golf Courses
REFRESH-INTERVAL;VALUE=DURATION:PT1H
X-Robots-Tag:noindex
X-PUBLISHED-TTL:PT1H
BEGIN:VTIMEZONE
TZID:America/Toronto
BEGIN:DAYLIGHT
TZOFFSETFROM:-0500
TZOFFSETTO:-0400
TZNAME:EDT
DTSTART:20240310T070000
END:DAYLIGHT
BEGIN:STANDARD
TZOFFSETFROM:-0400
TZOFFSETTO:-0500
TZNAME:EST
DTSTART:20241103T060000
END:STANDARD
BEGIN:DAYLIGHT
TZOFFSETFROM:-0500
TZOFFSETTO:-0400
TZNAME:EDT
DTSTART:20250309T070000
END:DAYLIGHT
BEGIN:STANDARD
TZOFFSETFROM:-0400
TZOFFSETTO:-0500
TZNAME:EST
DTSTART:20251102T060000
END:STANDARD
BEGIN:DAYLIGHT
TZOFFSETFROM:-0500
TZOFFSETTO:-0400
TZNAME:EDT
DTSTART:20260308T070000
END:DAYLIGHT
BEGIN:STANDARD
TZOFFSETFROM:-0400
TZOFFSETTO:-0500
TZNAME:EST
DTSTART:20261101T060000
END:STANDARD
END:VTIMEZONE
BEGIN:VEVENT
DTSTART;TZID=America/Toronto:20250529T130000
DTEND;TZID=America/Toronto:20250529T180000
DTSTAMP:20260419T141353
CREATED:20250124T135909Z
LAST-MODIFIED:20250124T135909Z
UID:25878-1748523600-1748541600@golfnaperville.org
SUMMARY:Titleist Fitting Day
DESCRIPTION:Schedule your fitting today at Springbrook Golf Course on Thursday\, May 29 from 1 to 6 p.m. \nThere is a $100 fitting fee required.  The $100 fee can be applied toward your club purchase of any Titleist golf club(s).  Club purchases will be made directly through the Titleist Fitting rep. \nLearn more about Titleist Golf \nClick here to book your fitting appointment
URL:https://golfnaperville.org/event/titleist-fitting-day-5/
LOCATION:Springbrook Golf Course\, 2220 W. 83rd St\, Naperville\, IL\, 60564\, United States
END:VEVENT
BEGIN:VEVENT
DTSTART;TZID=America/Toronto:20250529T150000
DTEND;TZID=America/Toronto:20250529T190000
DTSTAMP:20260419T141353
CREATED:20250501T220011Z
LAST-MODIFIED:20250501T220011Z
UID:26206-1748530800-1748545200@golfnaperville.org
SUMMARY:Cleveland / Srixon Demo Day & Wedge Clinic
DESCRIPTION:SRIXON/CLEVELAND Fitting Experience • Naperbrook • May 29 – 3:00pm – 7:00pm \nClick here to book your fitting appointment
URL:https://golfnaperville.org/event/cleveland-srixon-demo-day-wedge-clinic-11/
LOCATION:Naperbrook Golf Course\, 22204 W. 111th St./Hassert Blvd.\, Plainfield\, IL\, IL\, 60585\, United States
END:VEVENT
END:VCALENDAR