BEGIN:VCALENDAR
VERSION:2.0
PRODID:-//Springbrook &amp; Naperbrook Golf Courses - ECPv6.15.20//NONSGML v1.0//EN
CALSCALE:GREGORIAN
METHOD:PUBLISH
X-ORIGINAL-URL:https://golfnaperville.org
X-WR-CALDESC:Events for Springbrook &amp; Naperbrook Golf Courses
REFRESH-INTERVAL;VALUE=DURATION:PT1H
X-Robots-Tag:noindex
X-PUBLISHED-TTL:PT1H
BEGIN:VTIMEZONE
TZID:America/Toronto
BEGIN:DAYLIGHT
TZOFFSETFROM:-0500
TZOFFSETTO:-0400
TZNAME:EDT
DTSTART:20220313T070000
END:DAYLIGHT
BEGIN:STANDARD
TZOFFSETFROM:-0400
TZOFFSETTO:-0500
TZNAME:EST
DTSTART:20221106T060000
END:STANDARD
BEGIN:DAYLIGHT
TZOFFSETFROM:-0500
TZOFFSETTO:-0400
TZNAME:EDT
DTSTART:20230312T070000
END:DAYLIGHT
BEGIN:STANDARD
TZOFFSETFROM:-0400
TZOFFSETTO:-0500
TZNAME:EST
DTSTART:20231105T060000
END:STANDARD
BEGIN:DAYLIGHT
TZOFFSETFROM:-0500
TZOFFSETTO:-0400
TZNAME:EDT
DTSTART:20240310T070000
END:DAYLIGHT
BEGIN:STANDARD
TZOFFSETFROM:-0400
TZOFFSETTO:-0500
TZNAME:EST
DTSTART:20241103T060000
END:STANDARD
END:VTIMEZONE
BEGIN:VEVENT
DTSTART;VALUE=DATE:20231118
DTEND;VALUE=DATE:20231120
DTSTAMP:20260425T123930
CREATED:20211104T181434Z
LAST-MODIFIED:20231005T184617Z
UID:22247-1700265600-1700438399@golfnaperville.org
SUMMARY:Turkey Shoot 2023
DESCRIPTION:Naperbrook and Springbrook will be hosting their much-anticipated\, annual Turkey Shoot golf tournaments this month. Each cross-country event will consist of a field of up to ninety players for a total of eighteen fivesomes. \nChoose from one of two events: \nNaperbrook – Sat.\, Nov. 18\nSpringbrook – Sun.\, Nov. 19\n10:00 am shotgun start on both days \nEveryone is eligible to play in this festive\, 9-hole holiday golf event that has 5-person teams playing in a cross-country format. All groups need to have five golfers each; payment in full is due upon registration. \nEntry fee is $45/player; $225 per fivesome \nFee includes 9-hole golf scramble\, lunch following play and a prize turkey \nCOMPLETE DETAILS
URL:https://golfnaperville.org/event/turkey-shoot-2021/
LOCATION:Springbrook & Naperbrook\, 2220 W. 83rd St\, Naperville\, IL\, 60564\, United States
END:VEVENT
BEGIN:VEVENT
DTSTART;TZID=America/Toronto:20231118T100000
DTEND;TZID=America/Toronto:20231119T170000
DTSTAMP:20260425T123930
CREATED:20190117T165058Z
LAST-MODIFIED:20231101T184511Z
UID:7026-1700301600-1700413200@golfnaperville.org
SUMMARY:Turkey Shoot
DESCRIPTION:Date:\n\nNovember 18 and 19\, 2023\n\n\nCourse:\n\nNaperbrook Golf Course and Springbrook Golf Course\n\n\nStart Time:\n\n9:30 AM\, first tee time\n\n\nCost:\n\n$45 per person/$225 per team\n\n\n\n\nRegistration Begins November 11 at 8:00 AM \nImportant Registration Information \nNaperbrook and Springbrook will host two separate “Cross Country Turkey Shoots.” Each event will consist of a field of up to ninety players\, a total of eighteen fivesome teams. \nFor questions\, contact the golf shops. \nSpringbrook – (630) 848-5060 \nNaperbrook – (630) 378-4215 \nThe date choices are:\nNaperbrook – Saturday\, November 18\nSpringbrook – Sunday\, November 19 \n  \nUpdated Format and Safety Guidelines \nChanges have been made to this event to adhere to current safety guidelines and maintain social distancing protocols.  Both events will have individual tee times available between 9:30 AM and 12:30 PM.  This will not be a shotgun start.  The clubhouse and indoor seating area will be closed and unavailable for golfers during this event\, except in the case of lightning or other weather related concerns.  Food and beverage service will be open at the walk up window\, and a box lunch will be provided.  The golf shop will be open to allow purchases\, however capacity will be limited to 4 customers at one time.  Restroom facilities will be open.  Otherwise\, all participants will be required to remain outside the clubhouse.  Please be prepared for inclement weather\, including rain\, snow or cold. \nAll groups must be fivesomes and full payment for the entire group is due at registration. Entry fee is $45 per player\, $225 per fivesome. Entry fee includes 9-hole cross country scramble\, lunch and a prize turkey.  Golf carts will be available\, weather permitting. A maximum of 3 carts per group will be allowed\, fees will be $10 per person. \nRegistration: \nRegistration will begin at 8 AM on Saturday\, November 11.  Register online or in the golf shop at Naperbrook Golf Course only.  Registration will not be available at Springbrook Golf Course\, or by phone.  Tee time requests will be first come\, first served.  Registration for either course will close when 18 teams have registered for that course.  Contact the golf shop at Naperbrook to be added to a wait list for either event. \n\nWithdrawals: \nThe Turkey Shoot is often played in difficult weather conditions – rain\, cold\, even snow.  Golf carts will be available only if weather permits.  Teams withdrawing through November 19 will receive a full refund.  Teams withdrawing after November 19 will receive club credit\, minus a 25% service fee. \nAbout this Tournament and Prizes: \nEveryone is eligible to play in this festive\, holiday golf event that tends to wrap-up the golf season. This fun\, 9-hole scramble format has 5-person teams playing each course in a “cross country” set up. All participants receive a turkey.  As part of the tradition of the Turkey Shoot\, players that don’t wish to receive a turkey can donate the value of the turkey to a local charitable organization.   \nThe Naperville Park District has selected Operation Support Our Troops – a Naperville-based organization – to be the beneficiary of donations from the 2023 Turkey Shoot events at Springbrook and Naperbrook Golf Courses. Participants may elect to donate the monetary equivalent of their prize turkey that will be forwarded on to this cause that supports “the morale and well-being of American forces by providing comfort\, resources and education to them and their families.”  If you are planning to donate your turkey\, please inform staff at registration or check the box to donate your turkey on the registration form.  The price of your turkey will be included in our cash donation to Operation Support Our Troops.  \nGo to Operation Support Our Troops for more information. \nFormat:\n9 holes\, fivesomes only – and lots of fun! The existing 18-hole golf course will be converted into a 9-hole course. The hole routings will be modified to create a unique and challenging 9-hole layout. \nEligibility:\nOpen to anyone willing to test their skills and brave the cold. \nPace of Play:\n3 hours \nFood Sponsored by: \n \n \n  \n  \n  \n  \n  \n  \n  \nTurkeys Provided by:
URL:https://golfnaperville.org/event/turkey-shoot-2020/
LOCATION:Springbrook & Naperbrook\, 2220 W. 83rd St\, Naperville\, IL\, 60564\, United States
END:VEVENT
END:VCALENDAR