BEGIN:VCALENDAR
VERSION:2.0
PRODID:-//Springbrook &amp; Naperbrook Golf Courses - ECPv6.15.20//NONSGML v1.0//EN
CALSCALE:GREGORIAN
METHOD:PUBLISH
X-WR-CALNAME:Springbrook &amp; Naperbrook Golf Courses
X-ORIGINAL-URL:https://golfnaperville.org
X-WR-CALDESC:Events for Springbrook &amp; Naperbrook Golf Courses
REFRESH-INTERVAL;VALUE=DURATION:PT1H
X-Robots-Tag:noindex
X-PUBLISHED-TTL:PT1H
BEGIN:VTIMEZONE
TZID:America/Toronto
BEGIN:DAYLIGHT
TZOFFSETFROM:-0500
TZOFFSETTO:-0400
TZNAME:EDT
DTSTART:20240310T070000
END:DAYLIGHT
BEGIN:STANDARD
TZOFFSETFROM:-0400
TZOFFSETTO:-0500
TZNAME:EST
DTSTART:20241103T060000
END:STANDARD
BEGIN:DAYLIGHT
TZOFFSETFROM:-0500
TZOFFSETTO:-0400
TZNAME:EDT
DTSTART:20250309T070000
END:DAYLIGHT
BEGIN:STANDARD
TZOFFSETFROM:-0400
TZOFFSETTO:-0500
TZNAME:EST
DTSTART:20251102T060000
END:STANDARD
BEGIN:DAYLIGHT
TZOFFSETFROM:-0500
TZOFFSETTO:-0400
TZNAME:EDT
DTSTART:20260308T070000
END:DAYLIGHT
BEGIN:STANDARD
TZOFFSETFROM:-0400
TZOFFSETTO:-0500
TZNAME:EST
DTSTART:20261101T060000
END:STANDARD
END:VTIMEZONE
BEGIN:VEVENT
DTSTART;TZID=America/Toronto:20250805T170000
DTEND;TZID=America/Toronto:20250805T200000
DTSTAMP:20260423T151847
CREATED:20250313T171225Z
LAST-MODIFIED:20250313T171225Z
UID:26069-1754413200-1754424000@golfnaperville.org
SUMMARY:Spark Golf at Naperbrook
DESCRIPTION:Spark Golf league is a 9-hole\, social golf leagues played under a relaxed set of rules to make the experience casual and fun with a touch of friendly competition. \nJoining is free! League rounds are available for purchase each week or you can save money by pre-paying for Spark credit at a discount. \nJoin with a partner or play as a single with other Spark players. Earn points towards the season standings based on how you finish each round. \nMost of all\, have fun! \nRegister for free at https://www.spark.golf/golf-leagues/naperbrook-plainfield-il-mCrs6Dvfne.
URL:https://golfnaperville.org/event/spark-golf-at-naperbrook-16/
LOCATION:Naperbrook Golf Course\, 22204 W. 111th St./Hassert Blvd.\, Plainfield\, IL\, IL\, 60585\, United States
END:VEVENT
BEGIN:VEVENT
DTSTART;TZID=America/Toronto:20250806T170000
DTEND;TZID=America/Toronto:20250806T200000
DTSTAMP:20260423T151847
CREATED:20250313T162218Z
LAST-MODIFIED:20250313T162550Z
UID:26012-1754499600-1754510400@golfnaperville.org
SUMMARY:Spark Golf at Springbrook
DESCRIPTION:Spark Golf league is a 9-hole\, social golf leagues played under a relaxed set of rules to make the experience casual and fun with a touch of friendly competition. \nJoining is free! League rounds are available for purchase each week or you can save money by pre-paying for Spark credit at a discount. \nJoin with a partner or play as a single with other Spark players. Earn points towards the season standings based on how you finish each round. \nMost of all\, have fun! \nRegister for free at https://www.spark.golf/golf-leagues/springbrook-naperville-il-gvbkdMqoUN.
URL:https://golfnaperville.org/event/spark-golf-at-springbrook-16/
LOCATION:Springbrook Golf Course\, 2220 W. 83rd St\, Naperville\, IL\, 60564\, United States
END:VEVENT
BEGIN:VEVENT
DTSTART;VALUE=DATE:20250811
DTEND;VALUE=DATE:20250812
DTSTAMP:20260423T151847
CREATED:20250718T154208Z
LAST-MODIFIED:20250718T154208Z
UID:26313-1754870400-1754956799@golfnaperville.org
SUMMARY:Women’s Invitational 2025
DESCRIPTION:Springbrook Golf Course\nAugust 11\, 2025\n8:30 a.m. Shotgun \nCalling area women golfers… \nPick a partner and join in the friendly competition of the Springbrook Women’s Invitational! \nThis 18-hole tournament format has the lower score of the two players representing the team score. Any female amateur golfer 18 years of age or older with an official USGA handicap is eligible. $130 entry fee includes greens fees\, cart fees\, range balls\, continental breakfast\, lunch\, closest to the pin contests and prizes. \nCall 630-848-5060 Ext. 1 to register or register online at https://www.livetourney.com/tournament/77982. \nCLICK HERE FOR MORE INFORMATION
URL:https://golfnaperville.org/event/womens-invitational-2025/
LOCATION:Springbrook Golf Course\, 2220 W. 83rd St\, Naperville\, IL\, 60564\, United States
END:VEVENT
BEGIN:VEVENT
DTSTART;TZID=America/Toronto:20250812T170000
DTEND;TZID=America/Toronto:20250812T200000
DTSTAMP:20260423T151847
CREATED:20250313T171258Z
LAST-MODIFIED:20250313T171258Z
UID:26071-1755018000-1755028800@golfnaperville.org
SUMMARY:Spark Golf at Naperbrook
DESCRIPTION:Spark Golf league is a 9-hole\, social golf leagues played under a relaxed set of rules to make the experience casual and fun with a touch of friendly competition. \nJoining is free! League rounds are available for purchase each week or you can save money by pre-paying for Spark credit at a discount. \nJoin with a partner or play as a single with other Spark players. Earn points towards the season standings based on how you finish each round. \nMost of all\, have fun! \nRegister for free at https://www.spark.golf/golf-leagues/naperbrook-plainfield-il-mCrs6Dvfne.
URL:https://golfnaperville.org/event/spark-golf-at-naperbrook-17/
LOCATION:Naperbrook Golf Course\, 22204 W. 111th St./Hassert Blvd.\, Plainfield\, IL\, IL\, 60585\, United States
END:VEVENT
BEGIN:VEVENT
DTSTART;TZID=America/Toronto:20250813T170000
DTEND;TZID=America/Toronto:20250813T200000
DTSTAMP:20260423T151847
CREATED:20250313T162237Z
LAST-MODIFIED:20250313T162528Z
UID:26014-1755104400-1755115200@golfnaperville.org
SUMMARY:Spark Golf at Springbrook
DESCRIPTION:Spark Golf league is a 9-hole\, social golf leagues played under a relaxed set of rules to make the experience casual and fun with a touch of friendly competition. \nJoining is free! League rounds are available for purchase each week or you can save money by pre-paying for Spark credit at a discount. \nJoin with a partner or play as a single with other Spark players. Earn points towards the season standings based on how you finish each round. \nMost of all\, have fun! \nRegister for free at https://www.spark.golf/golf-leagues/springbrook-naperville-il-gvbkdMqoUN.
URL:https://golfnaperville.org/event/spark-golf-at-springbrook-17/
LOCATION:Springbrook Golf Course\, 2220 W. 83rd St\, Naperville\, IL\, 60564\, United States
END:VEVENT
BEGIN:VEVENT
DTSTART;VALUE=DATE:20250820
DTEND;VALUE=DATE:20250822
DTSTAMP:20260423T151847
CREATED:20250805T143446Z
LAST-MODIFIED:20250805T143539Z
UID:26329-1755648000-1755820799@golfnaperville.org
SUMMARY:Glen Ekey Senior Amateur Championship
DESCRIPTION:The Glen Ekey Senior Amateur Championship is a 36-hole stroke play event. Flights are determined by age (Seniors 55-69\, Legends 70+). Each flight will declare a low gross and low net champion. The overall low gross score of the Senior flight will be declared the Glen Ekey Senior Amateur Champion. Any amateur golfer 55 years of age or older with an official USGA handicap is eligible. \nThe entry fee is $100 per person\, which includes green fees\, range balls\, prizes and lunch each day. Riding carts will be optional\, and are not included in the entry fee. \nREGISTER HERE
URL:https://golfnaperville.org/event/glen-ekey-senior-amateur-championship-2/
LOCATION:Springbrook & Naperbrook\, 2220 W. 83rd St\, Naperville\, IL\, 60564\, United States
END:VEVENT
BEGIN:VEVENT
DTSTART;TZID=America/Toronto:20250820T170000
DTEND;TZID=America/Toronto:20250820T200000
DTSTAMP:20260423T151847
CREATED:20250313T162409Z
LAST-MODIFIED:20250313T162451Z
UID:26016-1755709200-1755720000@golfnaperville.org
SUMMARY:Spark Golf at Springbrook
DESCRIPTION:Spark Golf league is a 9-hole\, social golf leagues played under a relaxed set of rules to make the experience casual and fun with a touch of friendly competition. \nJoining is free! League rounds are available for purchase each week or you can save money by pre-paying for Spark credit at a discount. \nJoin with a partner or play as a single with other Spark players. Earn points towards the season standings based on how you finish each round. \nMost of all\, have fun! \nRegister for free at https://www.spark.golf/golf-leagues/springbrook-naperville-il-gvbkdMqoUN.
URL:https://golfnaperville.org/event/spark-golf-at-springbrook-18/
LOCATION:Springbrook Golf Course\, 2220 W. 83rd St\, Naperville\, IL\, 60564\, United States
END:VEVENT
BEGIN:VEVENT
DTSTART;TZID=America/Toronto:20250828T140000
DTEND;TZID=America/Toronto:20250828T180000
DTSTAMP:20260423T151847
CREATED:20250124T134834Z
LAST-MODIFIED:20250124T134834Z
UID:25868-1756389600-1756404000@golfnaperville.org
SUMMARY:Callaway Fitting Day
DESCRIPTION:CALLAWAY \nSpringbrook Golf Course\nThursday\, August 28 \n2:00 pm – 6:00 pm 
URL:https://golfnaperville.org/event/callaway-fitting-day-10/
LOCATION:Springbrook Golf Course\, 2220 W. 83rd St\, Naperville\, IL\, 60564\, United States
END:VEVENT
END:VCALENDAR