BEGIN:VCALENDAR
VERSION:2.0
PRODID:-//Springbrook &amp; Naperbrook Golf Courses - ECPv6.15.20//NONSGML v1.0//EN
CALSCALE:GREGORIAN
METHOD:PUBLISH
X-ORIGINAL-URL:https://golfnaperville.org
X-WR-CALDESC:Events for Springbrook &amp; Naperbrook Golf Courses
REFRESH-INTERVAL;VALUE=DURATION:PT1H
X-Robots-Tag:noindex
X-PUBLISHED-TTL:PT1H
BEGIN:VTIMEZONE
TZID:America/Toronto
BEGIN:DAYLIGHT
TZOFFSETFROM:-0500
TZOFFSETTO:-0400
TZNAME:EDT
DTSTART:20250309T070000
END:DAYLIGHT
BEGIN:STANDARD
TZOFFSETFROM:-0400
TZOFFSETTO:-0500
TZNAME:EST
DTSTART:20251102T060000
END:STANDARD
BEGIN:DAYLIGHT
TZOFFSETFROM:-0500
TZOFFSETTO:-0400
TZNAME:EDT
DTSTART:20260308T070000
END:DAYLIGHT
BEGIN:STANDARD
TZOFFSETFROM:-0400
TZOFFSETTO:-0500
TZNAME:EST
DTSTART:20261101T060000
END:STANDARD
BEGIN:DAYLIGHT
TZOFFSETFROM:-0500
TZOFFSETTO:-0400
TZNAME:EDT
DTSTART:20270314T070000
END:DAYLIGHT
BEGIN:STANDARD
TZOFFSETFROM:-0400
TZOFFSETTO:-0500
TZNAME:EST
DTSTART:20271107T060000
END:STANDARD
END:VTIMEZONE
BEGIN:VEVENT
DTSTART;TZID=America/Toronto:20260919T143000
DTEND;TZID=America/Toronto:20260919T160000
DTSTAMP:20260419T174002
CREATED:20260413T185005Z
LAST-MODIFIED:20260413T185005Z
UID:26933-1789828200-1789833600@golfnaperville.org
SUMMARY:Jr. Clinics: Ages 11-15
DESCRIPTION:The Junior Clinic experience is designed for young people with little or no golf background. Learn the basic fundamentals of putting\, chipping\, full swing and etiquette and receive a four-token range punch card – a $40 value. \nThe clinic is intended for golfers aged 11 to 15 and is held at Springbrook Golf Course from 2:30 to 4:00 p.m. on Saturday\, September 12\, Sunday\, September 13\, Saturday\, September 19 and Sunday\, September 20. \nParticipants should provide their own clubs. A driver or fairway wood\, the 7\, 9\, Pw or Sw irons and a putter are recommended. We have a limited number of junior golf clubs available at no charge that can be reserved on a first come\, first served basis by contacting the Golf Shop where the lesson is held. You also are eligible for a discount on club purchases in our Golf Shops. \nFor rainout information\, call the Springbrook Golf Shop at 630-848-5060 or the Naperbrook Golf Shop at 630-378-4215. \nRegister online at https://anc.apm.activecommunities.com/napervilleparks/activity/search/detail/108405?onlineSiteId=0&from_original_cui=true.
URL:https://golfnaperville.org/event/jr-clinics-ages-11-15-23/
LOCATION:Springbrook Golf Course\, 2220 W. 83rd St\, Naperville\, IL\, 60564\, United States
END:VEVENT
BEGIN:VEVENT
DTSTART;TZID=America/Toronto:20260920T090000
DTEND;TZID=America/Toronto:20260920T100000
DTSTAMP:20260419T174002
CREATED:20260406T185951Z
LAST-MODIFIED:20260406T185951Z
UID:26765-1789894800-1789898400@golfnaperville.org
SUMMARY:Golf Lessons: Adult Beginner
DESCRIPTION:Our PGA professionals offer instructional clinics catering to beginning golfers that include instruction on full swing\, pitching\, chipping\, putting\, rules and etiquette. \n\nReceive a lesson guide and a four-token range punch card – a $60 value.\nThe first and second lessons are scheduled for two hours; the third and fourth lessons are scheduled for one hour.\nParticipants should provide their own clubs. A fairway wood\, the 5\, 7\, 9 irons and a putter are recommended.\nWe have a limited number of regulation golf clubs available at no charge that can be reserved on a first come\, first served basis by contacting the Golf Shop where the lesson is held.\nYou also are eligible for a discount on club purchases in our Golf Shops.\n\nThis clinic will be held from 9:00 to 11:00 a.m. on Saturday\, September 12\, and Sunday\, September 13\, and from 9:00 to 10:00 a.m. on Saturday\, September 19\, and Sunday\, September 20. \nRegister Online at https://anc.apm.activecommunities.com/napervilleparks/activity/search/detail/108440?onlineSiteId=0&from_original_cui=true. \nFor rainout information\, call the Naperbrook Golf Shop at 630-378-4215.
URL:https://golfnaperville.org/event/golf-lessons-adult-beginner-19/
LOCATION:Naperbrook Golf Course\, 22204 W. 111th St./Hassert Blvd.\, Plainfield\, IL\, IL\, 60585\, United States
END:VEVENT
BEGIN:VEVENT
DTSTART;TZID=America/Toronto:20260920T090000
DTEND;TZID=America/Toronto:20260920T100000
DTSTAMP:20260419T174002
CREATED:20260407T190531Z
LAST-MODIFIED:20260407T190531Z
UID:26800-1789894800-1789898400@golfnaperville.org
SUMMARY:Golf Lessons: Adult Beginner
DESCRIPTION:Our PGA professionals offer instructional clinics catering to beginning golfers that include instruction on full swing\, pitching\, chipping\, putting\, rules and etiquette. \n\nReceive a lesson guide and a four-token range punch card – a $60 value.\nThe first and second lessons are scheduled for two hours; the third and fourth lessons are scheduled for one hour.\nParticipants should provide their own clubs. A driver or fairway wood\, the 7\, 9\, PW or SW irons\, and a putter are recommended.\nIf you do not have clubs\, we have golf clubs available for use at no charge.\nYou also are eligible for a discount on club purchases in our Golf Shops.\n\nThis clinic will be held from 9:00 to 11:00 a.m. on Saturday\, September 12 and Sunday\, September 13\, and from 9:00 to 10:00 a.m. on Saturday\, September 19\, and Sunday\, September 20. \nRegister Online at https://anc.apm.activecommunities.com/napervilleparks/activity/search/detail/108389?onlineSiteId=0&from_original_cui=true. \nFor rainout information\, call the Springbrook Golf Shop at 630-848-5060.
URL:https://golfnaperville.org/event/golf-lessons-adult-beginner-50/
LOCATION:Springbrook Golf Course\, 2220 W. 83rd St\, Naperville\, IL\, 60564\, United States
END:VEVENT
BEGIN:VEVENT
DTSTART;TZID=America/Toronto:20260920T120000
DTEND;TZID=America/Toronto:20260920T133000
DTSTAMP:20260419T174002
CREATED:20260413T204300Z
LAST-MODIFIED:20260413T204300Z
UID:26958-1789905600-1789911000@golfnaperville.org
SUMMARY:Jr. Clinics: Ages 7-10
DESCRIPTION:The Junior Clinic experience is designed for young people with little or no golf background. Learn the basic fundamentals of putting\, chipping\, full swing and etiquette and receive a four-token range punch card – a $40 value. \nThe clinic is intended for golfers aged 7 to 10 and is held at Springbrook Golf Course from Noon to 1:30 p.m. on Saturday\, September 12\, Sunday\, September 13\, Saturday\, September 19\, and Sunday\, September 20. \nParticipants should provide their own clubs. A driver or fairway wood\, the 7\, 9\, Pw or Sw irons and a putter are recommended. If you do not have clubs\, we have clubs available at no charge. Participants also are eligible for a discount on club purchases in our Golf Shops. \nFor rainout information\, call the Springbrook Golf Shop at 630-848-5060 or the Naperbrook Golf Shop at 630-378-4215. \nRegister online at https://anc.apm.activecommunities.com/napervilleparks/activity/search/detail/108417?onlineSiteId=0&from_original_cui=true.
URL:https://golfnaperville.org/event/jr-clinics-ages-7-10-44/
LOCATION:Springbrook Golf Course\, 2220 W. 83rd St\, Naperville\, IL\, 60564\, United States
END:VEVENT
BEGIN:VEVENT
DTSTART;TZID=America/Toronto:20260920T143000
DTEND;TZID=America/Toronto:20260920T160000
DTSTAMP:20260419T174002
CREATED:20260413T185041Z
LAST-MODIFIED:20260413T185041Z
UID:26934-1789914600-1789920000@golfnaperville.org
SUMMARY:Jr. Clinics: Ages 11-15
DESCRIPTION:The Junior Clinic experience is designed for young people with little or no golf background. Learn the basic fundamentals of putting\, chipping\, full swing and etiquette and receive a four-token range punch card – a $40 value. \nThe clinic is intended for golfers aged 11 to 15 and is held at Springbrook Golf Course from 2:30 to 4:00 p.m. on Saturday\, September 12\, Sunday\, September 13\, Saturday\, September 19 and Sunday\, September 20. \nParticipants should provide their own clubs. A driver or fairway wood\, the 7\, 9\, Pw or Sw irons and a putter are recommended. We have a limited number of junior golf clubs available at no charge that can be reserved on a first come\, first served basis by contacting the Golf Shop where the lesson is held. You also are eligible for a discount on club purchases in our Golf Shops. \nFor rainout information\, call the Springbrook Golf Shop at 630-848-5060 or the Naperbrook Golf Shop at 630-378-4215. \nRegister online at https://anc.apm.activecommunities.com/napervilleparks/activity/search/detail/108405?onlineSiteId=0&from_original_cui=true.
URL:https://golfnaperville.org/event/jr-clinics-ages-11-15-24/
LOCATION:Springbrook Golf Course\, 2220 W. 83rd St\, Naperville\, IL\, 60564\, United States
END:VEVENT
BEGIN:VEVENT
DTSTART;TZID=America/Toronto:20260921T163000
DTEND;TZID=America/Toronto:20260921T180000
DTSTAMP:20260419T174002
CREATED:20260413T205242Z
LAST-MODIFIED:20260413T205255Z
UID:26965-1790008200-1790013600@golfnaperville.org
SUMMARY:Jr. Clinics: Ages 7-10
DESCRIPTION:The Junior Clinic experience is designed for young aspiring golfers with little to no experience. Learn the basic fundamentals of putting\, chipping\, full swing and etiquette and receive a four-token range punch card – a $40 value. \nThe clinic is intended for golfers aged 7 to 10 and is held at Naperbrook Golf Course from 4:30 to 6:00 p.m. on Monday\, September 14\, Wednesday\, September 16\, Monday\, September 21\, and Wednesday\, September 23. \nParticipants should provide their own clubs. A fairway wood\, the 5\, 7\, 9 irons and a putter are recommended. If you do not have clubs\, we have clubs available at no charge. Participants also are eligible for a discount on club purchases in our Golf Shops. \nFor rainout information\, call the Naperbrook Golf Shop at 630-378-4215. \nRegister online at https://anc.apm.activecommunities.com/napervilleparks/activity/search/detail/108449?onlineSiteId=0&from_original_cui=true.
URL:https://golfnaperville.org/event/26965/
LOCATION:Naperbrook Golf Course\, 22204 W. 111th St./Hassert Blvd.\, Plainfield\, IL\, IL\, 60585\, United States
END:VEVENT
BEGIN:VEVENT
DTSTART;TZID=America/Toronto:20260923T163000
DTEND;TZID=America/Toronto:20260923T180000
DTSTAMP:20260419T174002
CREATED:20260413T205324Z
LAST-MODIFIED:20260413T205324Z
UID:26966-1790181000-1790186400@golfnaperville.org
SUMMARY:Jr. Clinics: Ages 7-10
DESCRIPTION:The Junior Clinic experience is designed for young aspiring golfers with little to no experience. Learn the basic fundamentals of putting\, chipping\, full swing and etiquette and receive a four-token range punch card – a $40 value. \nThe clinic is intended for golfers aged 7 to 10 and is held at Naperbrook Golf Course from 4:30 to 6:00 p.m. on Monday\, September 14\, Wednesday\, September 16\, Monday\, September 21\, and Wednesday\, September 23. \nParticipants should provide their own clubs. A fairway wood\, the 5\, 7\, 9 irons and a putter are recommended. If you do not have clubs\, we have clubs available at no charge. Participants also are eligible for a discount on club purchases in our Golf Shops. \nFor rainout information\, call the Naperbrook Golf Shop at 630-378-4215. \nRegister online at https://anc.apm.activecommunities.com/napervilleparks/activity/search/detail/108449?onlineSiteId=0&from_original_cui=true.
URL:https://golfnaperville.org/event/jr-clinics-ages-7-10-51/
LOCATION:Naperbrook Golf Course\, 22204 W. 111th St./Hassert Blvd.\, Plainfield\, IL\, IL\, 60585\, United States
END:VEVENT
BEGIN:VEVENT
DTSTART;TZID=America/Toronto:20261010T073000
DTEND;TZID=America/Toronto:20261010T170000
DTSTAMP:20260419T174002
CREATED:20260401T180518Z
LAST-MODIFIED:20260401T180533Z
UID:26703-1791617400-1791651600@golfnaperville.org
SUMMARY:Fall Scramble at Springbrook
DESCRIPTION:Date: October 10\, 2026\nCourse: Springbrook Golf Course\nStart Time: 7:30 a.m. off of the first tee\nCost: $75 per player / $300 per team \n\n\nRegister Now! \n\n\n\n\n\n\n\n\nThis is one of the last opportunities to enjoy tournament play for the season\, so make plans to participate in the Fall Scramble. This 18 hole tournament has the best shot from each four-person team selected as the recorded shot. Any amateur golfer 18 years of age or older with an official USGA handicap is eligible. Only one member of each team may have a handicap of nine or lower; the total handicap for the team must be 45 or more. Entry fee includes greens fees\, range balls\, prizes and lunch. Trophies will be awarded to the winners.\n\n\n\n\nDiscover more about this event at https://golfnaperville.org/tournament-schedule/fall-scramble/.
URL:https://golfnaperville.org/event/fall-scramble-at-springbrook/
LOCATION:Springbrook Golf Course\, 2220 W. 83rd St\, Naperville\, IL\, 60564\, United States
END:VEVENT
BEGIN:VEVENT
DTSTART;TZID=America/Toronto:20261121T100000
DTEND;TZID=America/Toronto:20261122T170000
DTSTAMP:20260419T174002
CREATED:20260401T180701Z
LAST-MODIFIED:20260401T180701Z
UID:26704-1795255200-1795366800@golfnaperville.org
SUMMARY:Turkey Shoot
DESCRIPTION:Naperbrook Golf Course\nSaturday\, November 21\n10:00 AM shotgun start \n\n\n\n\n\n\n\n\nSpringbrook Golf Course \nSunday\, November 22\n10:00 AM shotgun start\n\n\n\n\n\n\n\nTurkey Shoot lottery is at 9:00 am Saturday\, November 14 at Naperbrook Golf Course.  Registration begins at 8:00 am.\n\n\nDiscover more about this event at https://golfnaperville.org/tournament-schedule/turkey-shoot-at-springbrook-naperbrook/.
URL:https://golfnaperville.org/event/turkey-shoot-2/
LOCATION:Springbrook & Naperbrook\, 2220 W. 83rd St\, Naperville\, IL\, 60564\, United States
END:VEVENT
END:VCALENDAR